BEGIN:VCALENDAR
PRODID:-//kirchenweb.ch gmbh//veranstaltungsausgabe v2.0//DE
VERSION:2.0
METHOD:PUBLISH
BEGIN:VEVENT
DTSTART;VALUE=DATE:20250717
DTEND;VALUE=DATE:20250718
LOCATION:Ferienhaus "Sunneheim" Wyssachen (BE)\, \,
TRANSP:OPAQUE
SEQUENCE:0
UID:5667-veranstaltung@kath-zollikon-zumikon.ch
DTSTAMP:20240419T124550Z
DESCRIPTION:Kontakt: Andrea Jakober\n\nWeitere Infos:
  https://www.kath-zollikon-zumikon.ch/veranstaltung/5667
SUMMARY:Sommerlager
PRIORITY:5
X-MICROSOFT-CDO-IMPORTANCE:1
CLASS:PUBLIC
END:VEVENT
END:VCALENDAR
