BEGIN:VCALENDAR
PRODID:-//kirchenweb.ch gmbh//veranstaltungsausgabe v2.0//DE
VERSION:2.0
METHOD:PUBLISH
BEGIN:VEVENT
DTSTART:20250415T140000Z
DTEND:20250415T160000Z
LOCATION:Pfarreizentrum Dreifaltigkeit Zollikon\, Gustav-Maurer-Strasse
  13\, 8702 Zollikon
TRANSP:OPAQUE
SEQUENCE:0
UID:5675-veranstaltung@kath-zollikon-zumikon.ch
DTSTAMP:20240419T135214Z
DESCRIPTION:Das Gerüst für den Osterbrunnen wird mit Gehölz abgedeckt\n
 \nKontakt: Andrea Jakober\n\nWeitere Infos:
  https://www.kath-zollikon-zumikon.ch/veranstaltung/5675
SUMMARY:Osterbrunnen
PRIORITY:5
X-MICROSOFT-CDO-IMPORTANCE:1
CLASS:PUBLIC
END:VEVENT
END:VCALENDAR
