BEGIN:VCALENDAR
PRODID:-//kirchenweb.ch gmbh//veranstaltungsausgabe v2.0//DE
VERSION:2.0
METHOD:PUBLISH
BEGIN:VEVENT
DTSTART:20251004T134500Z
DTEND:20251004T144500Z
LOCATION:Diakoniewerk Neumünster\, Neuweg16\, 8125 Zollikerberg
TRANSP:OPAQUE
SEQUENCE:0
UID:6500-veranstaltung@kath-zollikon-zumikon.ch
DTSTAMP:20250927T092150Z
DESCRIPTION:Kontakt: sekretariat-berg@kath-zollikon.ch\n\nWeitere Infos:
  https://www.kath-zollikon-zumikon.ch/veranstaltung/6500
SUMMARY:Spitalgottesdienst mit Eucharistiefeier
PRIORITY:5
X-MICROSOFT-CDO-IMPORTANCE:1
CLASS:PUBLIC
END:VEVENT
END:VCALENDAR
