BEGIN:VCALENDAR
PRODID:-//kirchenweb.ch gmbh//veranstaltungsausgabe v2.0//DE
VERSION:2.0
METHOD:PUBLISH
BEGIN:VEVENT
DTSTART:20250925T083000Z
DTEND:20250925T093000Z
LOCATION:Zumipark\, Küsnachterstr. 7\, 8126 Zumikon
TRANSP:OPAQUE
SEQUENCE:0
UID:6811-veranstaltung@kath-zollikon-zumikon.ch
DTSTAMP:20241118T085226Z
DESCRIPTION:Kontakt: sekretariat-berg@kath-zollikon.ch\n\nWeitere Infos:
  https://www.kath-zollikon-zumikon.ch/veranstaltung/6811
SUMMARY:Andacht im Zumipark
PRIORITY:5
X-MICROSOFT-CDO-IMPORTANCE:1
CLASS:PUBLIC
END:VEVENT
END:VCALENDAR
