BEGIN:VCALENDAR
PRODID:-//kirchenweb.ch gmbh//veranstaltungsausgabe v2.0//DE
VERSION:2.0
METHOD:PUBLISH
BEGIN:VEVENT
DTSTART:20251015T083000Z
DTEND:20251015T093000Z
LOCATION:Tertianum\, Sennhofweg 23\, 8125 Zolli
TRANSP:OPAQUE
SEQUENCE:0
UID:6816-veranstaltung@kath-zollikon-zumikon.ch
DTSTAMP:20251014T103141Z
DESCRIPTION:Kontakt: sekretariat-berg@kath-zollikon.ch\n\nWeitere Infos:
  https://www.kath-zollikon-zumikon.ch/veranstaltung/6816
SUMMARY:Andacht im Tertianum
PRIORITY:5
X-MICROSOFT-CDO-IMPORTANCE:1
CLASS:PUBLIC
END:VEVENT
END:VCALENDAR
