BEGIN:VCALENDAR
PRODID:-//kirchenweb.ch gmbh//veranstaltungsausgabe v2.0//DE
VERSION:2.0
METHOD:PUBLISH
BEGIN:VEVENT
DTSTART:20251104T140000Z
DTEND:20251104T150000Z
LOCATION:Diakoniewerk Neumünster\, Neuweg16\, 8125 Zollikerberg
TRANSP:OPAQUE
SEQUENCE:0
UID:6820-veranstaltung@kath-zollikon-zumikon.ch
DTSTAMP:20241118T085619Z
DESCRIPTION:Kontakt: sekretariat-berg@kath-zollikon.ch\n\nWeitere Infos:
  https://www.kath-zollikon-zumikon.ch/veranstaltung/6820
SUMMARY:Andacht im Magnolia
PRIORITY:5
X-MICROSOFT-CDO-IMPORTANCE:1
CLASS:PUBLIC
END:VEVENT
END:VCALENDAR
