BEGIN:VCALENDAR
PRODID:-//kirchenweb.ch gmbh//veranstaltungsausgabe v2.0//DE
VERSION:2.0
METHOD:PUBLISH
BEGIN:VEVENT
DTSTART:20250626T160000Z
DTEND:20250626T200000Z
LOCATION:Pfarreizentrum Dreifaltigkeit Zollikon\, Gustav-Maurer-Strasse
  13\, 8702 Zollikon
TRANSP:OPAQUE
SEQUENCE:0
UID:6995-veranstaltung@kath-zollikon-zumikon.ch
DTSTAMP:20241211T132831Z
DESCRIPTION:18.15 Uhr bei der Boccia-Bahn in Küsnacht bei der KEK. Mit
  Cécile Rusch.\n\nKontakt: sekretariat-dorf@kath-zollikon.ch\n\nWeitere
  Infos: https://www.kath-zollikon-zumikon.ch/veranstaltung/6995
SUMMARY:Frauentreff Boccia-Abend mit Nachtessen
PRIORITY:5
X-MICROSOFT-CDO-IMPORTANCE:1
CLASS:PUBLIC
END:VEVENT
END:VCALENDAR
