BEGIN:VCALENDAR
PRODID:-//kirchenweb.ch gmbh//veranstaltungsausgabe v2.0//DE
VERSION:2.0
METHOD:PUBLISH
BEGIN:VEVENT
DTSTART:20251003T130000Z
DTEND:20251003T150000Z
LOCATION:Pfarreizentrum Dreifaltigkeit Zollikon\, Gustav-Maurer-Strasse
  13\, 8702 Zollikon
TRANSP:OPAQUE
SEQUENCE:0
UID:7011-veranstaltung@kath-zollikon-zumikon.ch
DTSTAMP:20251002T081949Z
DESCRIPTION:Ökumenischer Kegelnachmittag - mit Schwung ins Wochenende.
 \nEin ökumenisches Angebot von Sozialdiakon Peter Lissa (Ref. Kirche) und
  Heidi Kallenbach\n\nKontakt: Heidi Kallenbach\n\nWeitere Infos:
  https://www.kath-zollikon-zumikon.ch/veranstaltung/7011
SUMMARY:Kegelnachmittag abgesagt
PRIORITY:5
X-MICROSOFT-CDO-IMPORTANCE:1
CLASS:PUBLIC
END:VEVENT
END:VCALENDAR
