BEGIN:VCALENDAR
PRODID:-//kirchenweb.ch gmbh//veranstaltungsausgabe v2.0//DE
VERSION:2.0
METHOD:PUBLISH
BEGIN:VEVENT
DTSTART:20251023T123000Z
DTEND:20251023T150000Z
LOCATION:Pfarreizentrum Dreifaltigkeit Zollikon\, Gustav-Maurer-Strasse
  13\, 8702 Zollikon
TRANSP:OPAQUE
SEQUENCE:0
UID:7139-veranstaltung@kath-zollikon-zumikon.ch
DTSTAMP:20250828T142625Z
DESCRIPTION:500 Jahre Säkularisation - Geschichten zum früheren
  Klosterleben in Zürich\nmit Frau Barbara Hutzl-Ronge\, Autorin und
  Stadtführerin\n\nVor 500 Jahren - im Dezember 1524 und im Februar 1525 -
  wurden die städtischen Klöster durch die Ratsherren der Stadt Zürich
  aufgehoben. Unsere Referentin\, Autorin des Buches "Zürich -
  Spaziergänge durch 500 Jahre überraschende Stadtgeschichten"\, würdigt
  in ihrem Vortrag die Chorherren und Chorfrauen\, die Nonnen und Mönche
  für ihren spirituellen Beitrag sowie für die kulturellen und
  gesellschaftlichen Leistungen\, die diese vor der Reformation
  Jahrhunderte lang in der Stadt Zürich erbracht haben. \nWie erging es
  den Ordensleuten nach der Schliessung der Köster? Wie gestalteten sie
  ihr Leben? Und wer hat profitiert von der Säkularisation der Klöster?\n
 \nWir freuen uns auf einen interessanten und aufschlussreichen Nachmittag.
 \n\nKontakt: Heidi Kallenbach\n\nWeitere Infos:
  https://www.kath-zollikon-zumikon.ch/veranstaltung/7139
SUMMARY:Kultur-Café
PRIORITY:5
X-MICROSOFT-CDO-IMPORTANCE:1
CLASS:PUBLIC
END:VEVENT
END:VCALENDAR
