BEGIN:VCALENDAR
PRODID:-//kirchenweb.ch gmbh//veranstaltungsausgabe v2.0//DE
VERSION:2.0
METHOD:PUBLISH
BEGIN:VEVENT
DTSTART:20250914T090000Z
DTEND:20250914T100000Z
LOCATION:Kath. Kirche Zollikon\, Gustav-Maurer-Strasse 13\, 8702 Zollikon
TRANSP:OPAQUE
SEQUENCE:0
UID:7152-veranstaltung@kath-zollikon-zumikon.ch
DTSTAMP:20250911T065624Z
DESCRIPTION:Musikalische Mitwirkung: Stimmbandchor aus Schwyz und unser
  Kirchenchor\n\nKontakt: sekretariat-berg@kath-zollikon.ch\n\nWeitere
  Infos: https://www.kath-zollikon-zumikon.ch/veranstaltung/7152
SUMMARY:Heilige Messe
PRIORITY:5
X-MICROSOFT-CDO-IMPORTANCE:1
CLASS:PUBLIC
END:VEVENT
END:VCALENDAR
