BEGIN:VCALENDAR
PRODID:-//kirchenweb.ch gmbh//veranstaltungsausgabe v2.0//DE
VERSION:2.0
METHOD:PUBLISH
BEGIN:VEVENT
DTSTART:20250920T150000Z
DTEND:20250920T160000Z
LOCATION:Bruder Klaus Kapelle Zumikon\, Dorfplatz 9\, 8126 Zumikon
TRANSP:OPAQUE
SEQUENCE:0
UID:7158-veranstaltung@kath-zollikon-zumikon.ch
DTSTAMP:20250218T152950Z
DESCRIPTION:Wir feiern am Sonntag\, 21. September um 10.15 Uhr einen
  ökumenischen Gottesdienst in Zumikon\, deshalb findet die Messe am
  Samstag in Zollikerberg statt.\n\nKontakt:
  sekretariat-berg@kath-zollikon.ch\n\nWeitere Infos:
  https://www.kath-zollikon-zumikon.ch/veranstaltung/7158
SUMMARY:Kein Gottesdienst
PRIORITY:5
X-MICROSOFT-CDO-IMPORTANCE:1
CLASS:PUBLIC
END:VEVENT
END:VCALENDAR
