BEGIN:VCALENDAR
PRODID:-//kirchenweb.ch gmbh//veranstaltungsausgabe v2.0//DE
VERSION:2.0
METHOD:PUBLISH
BEGIN:VEVENT
DTSTART:20250927T150000Z
DTEND:20250927T160000Z
LOCATION:Bruder Klaus Kapelle Zumikon\, Dorfplatz 9\, 8126 Zumikon
TRANSP:OPAQUE
SEQUENCE:0
UID:7166-veranstaltung@kath-zollikon-zumikon.ch
DTSTAMP:20250905T132443Z
DESCRIPTION:Kontakt: Heidi Kallenbach\n\nWeitere Infos:
  https://www.kath-zollikon-zumikon.ch/veranstaltung/7166
SUMMARY:Patrozinium Bruder Klaus
PRIORITY:5
X-MICROSOFT-CDO-IMPORTANCE:1
CLASS:PUBLIC
END:VEVENT
END:VCALENDAR
