BEGIN:VCALENDAR
PRODID:-//kirchenweb.ch gmbh//veranstaltungsausgabe v2.0//DE
VERSION:2.0
METHOD:PUBLISH
BEGIN:VEVENT
DTSTART:20251018T150000Z
DTEND:20251018T160000Z
LOCATION:Bruder Klaus Kapelle Zumikon\, Dorfplatz 9\, 8126 Zumikon
TRANSP:OPAQUE
SEQUENCE:0
UID:7202-veranstaltung@kath-zollikon-zumikon.ch
DTSTAMP:20251018T055628Z
DESCRIPTION:Kontakt: Matthias Merdan\n\nWeitere Infos:
  https://www.kath-zollikon-zumikon.ch/veranstaltung/7202
SUMMARY:Heilige Messe
PRIORITY:5
X-MICROSOFT-CDO-IMPORTANCE:1
CLASS:PUBLIC
END:VEVENT
END:VCALENDAR
