BEGIN:VCALENDAR
PRODID:-//kirchenweb.ch gmbh//veranstaltungsausgabe v2.0//DE
VERSION:2.0
METHOD:PUBLISH
BEGIN:VEVENT
DTSTART:20251024T070000Z
DTEND:20251024T080000Z
LOCATION:Bruder Klaus Kapelle Zumikon\, Dorfplatz 9\, 8126 Zumikon
TRANSP:OPAQUE
SEQUENCE:0
UID:7207-veranstaltung@kath-zollikon-zumikon.ch
DTSTAMP:20250927T092835Z
DESCRIPTION:Kontakt: sekretariat-berg@kath-zollikon.ch\n\nWeitere Infos:
  https://www.kath-zollikon-zumikon.ch/veranstaltung/7207
SUMMARY:Eucharistiefeier mit Chilekafi
PRIORITY:5
X-MICROSOFT-CDO-IMPORTANCE:1
CLASS:PUBLIC
END:VEVENT
END:VCALENDAR
