BEGIN:VCALENDAR
PRODID:-//kirchenweb.ch gmbh//veranstaltungsausgabe v2.0//DE
VERSION:2.0
METHOD:PUBLISH
BEGIN:VEVENT
DTSTART:20251109T083000Z
DTEND:20251109T093000Z
LOCATION:Kath. Kirche Zollikerberg\, Neuweg 4\, 8125 Zollikerberg
TRANSP:OPAQUE
SEQUENCE:0
UID:7221-veranstaltung@kath-zollikon-zumikon.ch
DTSTAMP:20251031T135018Z
DESCRIPTION:Kontakt: sekretariat-berg@kath-zollikon.ch\n\nWeitere Infos:
  https://www.kath-zollikon-zumikon.ch/veranstaltung/7221
SUMMARY:Heilige Messe mit Chileapéro
PRIORITY:5
X-MICROSOFT-CDO-IMPORTANCE:1
CLASS:PUBLIC
END:VEVENT
END:VCALENDAR
