BEGIN:VCALENDAR
PRODID:-//kirchenweb.ch gmbh//veranstaltungsausgabe v2.0//DE
VERSION:2.0
METHOD:PUBLISH
BEGIN:VEVENT
DTSTART:20251109T100000Z
DTEND:20251109T110000Z
LOCATION:Kath. Kirche Zollikon\, Gustav-Maurer-Strasse 13\, 8702 Zollikon
TRANSP:OPAQUE
SEQUENCE:0
UID:7222-veranstaltung@kath-zollikon-zumikon.ch
DTSTAMP:20251031T135039Z
DESCRIPTION:Kontakt: sekretariat-berg@kath-zollikon.ch\n\nWeitere Infos:
  https://www.kath-zollikon-zumikon.ch/veranstaltung/7222
SUMMARY:Heilige Messe
PRIORITY:5
X-MICROSOFT-CDO-IMPORTANCE:1
CLASS:PUBLIC
END:VEVENT
END:VCALENDAR
