BEGIN:VCALENDAR
PRODID:-//kirchenweb.ch gmbh//veranstaltungsausgabe v2.0//DE
VERSION:2.0
METHOD:PUBLISH
BEGIN:VEVENT
DTSTART:20251206T053000Z
DTEND:20251206T063000Z
LOCATION:Bruder Klaus Kapelle Zumikon\, Dorfplatz 9\, 8126 Zumikon
TRANSP:OPAQUE
SEQUENCE:0
UID:7247-veranstaltung@kath-zollikon-zumikon.ch
DTSTAMP:20251202T093212Z
DESCRIPTION:Kontakt: Matthias Merdan\n\nWeitere Infos:
  https://www.kath-zollikon-zumikon.ch/veranstaltung/7247
SUMMARY:Roratefeier mit anschliessendem Frühstück
PRIORITY:5
X-MICROSOFT-CDO-IMPORTANCE:1
CLASS:PUBLIC
END:VEVENT
END:VCALENDAR
