BEGIN:VCALENDAR
PRODID:-//kirchenweb.ch gmbh//veranstaltungsausgabe v2.0//DE
VERSION:2.0
METHOD:PUBLISH
BEGIN:VEVENT
DTSTART:20250903T113000Z
DTEND:20250903T130000Z
LOCATION:Kath. Kirche Zollikon\, Gustav-Maurer-Strasse 13\, 8702 Zollikon
TRANSP:OPAQUE
SEQUENCE:0
UID:7518-veranstaltung@kath-zollikon-zumikon.ch
DTSTAMP:20250521T140833Z
DESCRIPTION:Evtl. mit Miniprobe Multikulti\n\nKontakt: Andrea Jakober\n
 \nWeitere Infos: https://www.kath-zollikon-zumikon.ch/veranstaltung/7518
SUMMARY:Minikurs
PRIORITY:5
X-MICROSOFT-CDO-IMPORTANCE:1
CLASS:PUBLIC
END:VEVENT
END:VCALENDAR
