BEGIN:VCALENDAR
PRODID:-//kirchenweb.ch gmbh//veranstaltungsausgabe v2.0//DE
VERSION:2.0
METHOD:PUBLISH
BEGIN:VEVENT
DTSTART:20250924T053000Z
DTEND:20250924T163000Z
LOCATION:Colmar/F\, \,
TRANSP:OPAQUE
SEQUENCE:0
UID:7569-veranstaltung@kath-zollikon-zumikon.ch
DTSTAMP:20250828T142757Z
DESCRIPTION:Wir starten früh (07:30 Uhr) zu unserem Herbstausflug ins
  benachbarte Frankreich - ins schöne Elsass. Unser Ziel ist Colmar und
  das Unterlinden-Museum mit seinem berühmtesten Exponat: dem herrlich
  restaurierten Isenheimer Altar.\nUnterwegs halten wir für eine besondere
  Entdeckung in Ottmarsheim\, bevor wir zum Mittagessen und Museumsbesuch
  nach Colmar weiterfahren.\n\nFreuen Sie sich auf einen interessanten Tag
  in froher Gemeinschaft\, der uns viele bleibende Eindrücke bescheren
  wird.\n\nDerzeit ist der Ausflug ausgebucht und es gibt bereits eine
  Warteliste. \n\n\nKontakt: Heidi Kallenbach\n\nWeitere Infos:
  https://www.kath-zollikon-zumikon.ch/veranstaltung/7569
SUMMARY:Herbst-Ausflug 60+
PRIORITY:5
X-MICROSOFT-CDO-IMPORTANCE:1
CLASS:PUBLIC
END:VEVENT
END:VCALENDAR
