BEGIN:VCALENDAR
PRODID:-//kirchenweb.ch gmbh//veranstaltungsausgabe v2.0//DE
VERSION:2.0
METHOD:PUBLISH
BEGIN:VEVENT
DTSTART;VALUE=DATE:20251025
DTEND;VALUE=DATE:20251026
LOCATION:Auswärts\, \,  Greifensee
TRANSP:OPAQUE
SEQUENCE:0
UID:7574-veranstaltung@kath-zollikon-zumikon.ch
DTSTAMP:20250806T123653Z
DESCRIPTION:Das OSU Weekend findet in Greifensee statt.\n\nKontakt: Andrea
  Jakober\n\nWeitere Infos:
  https://www.kath-zollikon-zumikon.ch/veranstaltung/7574
SUMMARY:OSU Weekend
PRIORITY:5
X-MICROSOFT-CDO-IMPORTANCE:1
CLASS:PUBLIC
END:VEVENT
END:VCALENDAR
