BEGIN:VCALENDAR
PRODID:-//kirchenweb.ch gmbh//veranstaltungsausgabe v2.0//DE
VERSION:2.0
METHOD:PUBLISH
BEGIN:VEVENT
DTSTART:20250902T160000Z
DTEND:20250902T180000Z
LOCATION:Pfarreizentrum Dreifaltigkeit Zollikon\, Gustav-Maurer-Strasse
  13\, 8702 Zollikon
TRANSP:OPAQUE
SEQUENCE:0
UID:7587-veranstaltung@kath-zollikon-zumikon.ch
DTSTAMP:20250804T091619Z
DESCRIPTION:Thema: Was bedeutet Christsein heute?\n\nGlaube – nur etwas
  für sonntags? Oder hat er auch heute noch Platz in meinem Alltag\,
  meinen Entscheidungen\, meinen Beziehungen?\nAn diesem Abend setzen sich
  die Firmand:innen mit der Frage auseinander\, was Christsein in der
  heutigen Zeit bedeuten kann – ehrlich\, persönlich und im Austausch.\n
 \n(Geschlossene Veranstaltung im Rahmen der Firmvorbereitung)\n\nKontakt:
  sekretariat-dorf@kath-zollikon.ch\n\nWeitere Infos:
  https://www.kath-zollikon-zumikon.ch/veranstaltung/7587
SUMMARY:1. Themenabend Firmung
PRIORITY:5
X-MICROSOFT-CDO-IMPORTANCE:1
CLASS:PUBLIC
END:VEVENT
END:VCALENDAR
