BEGIN:VCALENDAR
PRODID:-//kirchenweb.ch gmbh//veranstaltungsausgabe v2.0//DE
VERSION:2.0
METHOD:PUBLISH
BEGIN:VEVENT
DTSTART:20250929T160000Z
DTEND:20250929T180000Z
LOCATION:Pfarreizentrum St. Michael Zollikerberg\, Neuweg 4\, 8125
  Zollikerberg
TRANSP:OPAQUE
SEQUENCE:0
UID:7589-veranstaltung@kath-zollikon-zumikon.ch
DTSTAMP:20250919T085413Z
DESCRIPTION:Thema: Heiliger Geist – Kraftquelle des Lebens\n\nWas
  bedeutet es\, vom Heiligen Geist erfüllt zu sein? Wo erfahren wir heute
  seine Kraft?\nAn diesem Abend nähern sich die Firmand:innen dem
  Geheimnis des Heiligen Geistes – mit Impulsen\, Austausch und
  persönlichen Fragen zum Glauben.\n\n(Geschlossene Veranstaltung im
  Rahmen der Firmvorbereitung)\n\nKontakt: p.mihilli@kath-zollikon.ch\n
 \nWeitere Infos: https://www.kath-zollikon-zumikon.ch/veranstaltung/7589
SUMMARY:2. Themenabend Firmung
PRIORITY:5
X-MICROSOFT-CDO-IMPORTANCE:1
CLASS:PUBLIC
END:VEVENT
END:VCALENDAR
