BEGIN:VCALENDAR
PRODID:-//kirchenweb.ch gmbh//veranstaltungsausgabe v2.0//DE
VERSION:2.0
METHOD:PUBLISH
BEGIN:VEVENT
DTSTART:20251104T170000Z
DTEND:20251104T190000Z
LOCATION:Pfarreizentrum Dreifaltigkeit Zollikon\, Gustav-Maurer-Strasse
  13\, 8702 Zollikon
TRANSP:OPAQUE
SEQUENCE:0
UID:7590-veranstaltung@kath-zollikon-zumikon.ch
DTSTAMP:20250804T091739Z
DESCRIPTION:Thema: Glauben & Zweifel – Darf ich fragen?\n\nZweifel
  gehören zum Glauben – doch wie geht man mit ihnen um? \nWas\, wenn ich
  nicht alles glauben kann?\nAn diesem Abend bekommen die Firmand:innen
  Raum für ehrliche Fragen – und entdecken\, dass Glaube nicht heisst\,
  alles zu wissen\, sondern auf dem Weg zu sein.\n\n(Geschlossene
  Veranstaltung im Rahmen der Firmvorbereitung)\n\nKontakt:
  p.mihilli@kath-zollikon.ch\n\nWeitere Infos:
  https://www.kath-zollikon-zumikon.ch/veranstaltung/7590
SUMMARY:3. Themenabend Firmung
PRIORITY:5
X-MICROSOFT-CDO-IMPORTANCE:1
CLASS:PUBLIC
END:VEVENT
END:VCALENDAR
