BEGIN:VCALENDAR
PRODID:-//kirchenweb.ch gmbh//veranstaltungsausgabe v2.0//DE
VERSION:2.0
METHOD:PUBLISH
BEGIN:VEVENT
DTSTART:20260615T160000Z
DTEND:20260615T180000Z
LOCATION:Pfarreizentrum St. Michael Zollikerberg\, Neuweg 4\, 8125
  Zollikerberg
TRANSP:OPAQUE
SEQUENCE:0
UID:7597-veranstaltung@kath-zollikon-zumikon.ch
DTSTAMP:20250804T092713Z
DESCRIPTION:Thema: Ablauf der Firmung\n\nWas passiert wann in der
  Firmfeier? Wer liest was – und worauf kommt es an?\nAn diesem Abend
  bereiten sich die Firmand:innen ganz konkret auf die Feier der Firmung
  vor: \nWir sprechen über Lesung\, Fürbitten\, Gabenbereitung und den
  liturgischen Ablauf.\nZugleich geht es darum\, wie jede:r die Feier aktiv
  und bewusst mitgestalten kann – nicht nur äusserlich\, sondern auch
  innerlich.\n\n(Geschlossene Veranstaltung im Rahmen der Firmvorbereitung)
 \n\nKontakt: p.mihilli@kath-zollikon.ch\n\nWeitere Infos:
  https://www.kath-zollikon-zumikon.ch/veranstaltung/7597
SUMMARY:10. Themenabend Firmung
PRIORITY:5
X-MICROSOFT-CDO-IMPORTANCE:1
CLASS:PUBLIC
END:VEVENT
END:VCALENDAR
