BEGIN:VCALENDAR
PRODID:-//kirchenweb.ch gmbh//veranstaltungsausgabe v2.0//DE
VERSION:2.0
METHOD:PUBLISH
BEGIN:VEVENT
DTSTART:20260710T160000Z
DTEND:20260710T180000Z
LOCATION:Kath. Kirche Zollikerberg\, Neuweg 4\, 8125 Zollikerberg
TRANSP:OPAQUE
SEQUENCE:0
UID:7599-veranstaltung@kath-zollikon-zumikon.ch
DTSTAMP:20251202T133752Z
DESCRIPTION:Thema: Gottesdienstprobe zur Firmung\n\nKurz vor dem grossen
  Tag bereiten sich die Firmand:innen gemeinsam auf die Feier der Firmung
  vor.\nWir proben den genauen Ablauf des Gottesdienstes\, klären letzte
  Fragen und üben die einzelnen Rollen – damit jede:r mit einem sicheren
  Gefühl in den Festtag gehen kann.\n\n(Nur für Firmand:innen)\n
 \nKontakt: Pjeter Mihilli\n\nWeitere Infos:
  https://www.kath-zollikon-zumikon.ch/veranstaltung/7599
SUMMARY:Gottesdienstprobe zur Firmung
PRIORITY:5
X-MICROSOFT-CDO-IMPORTANCE:1
CLASS:PUBLIC
END:VEVENT
END:VCALENDAR
