BEGIN:VCALENDAR
PRODID:-//kirchenweb.ch gmbh//veranstaltungsausgabe v2.0//DE
VERSION:2.0
METHOD:PUBLISH
BEGIN:VEVENT
DTSTART:20260711T080000Z
DTEND:20260711T093000Z
LOCATION:Kath. Kirche Zollikerberg\, Neuweg 4\, 8125 Zollikerberg
TRANSP:OPAQUE
SEQUENCE:0
UID:7600-veranstaltung@kath-zollikon-zumikon.ch
DTSTAMP:20251222T105325Z
DESCRIPTION:Firmspender: Bischof Joseph Maria Bonnemain\n\nIn einem
  feierlichen Gottesdienst empfangen unsere Firmandinnen und Firmanden das
  Sakrament der Firmung – gestärkt durch den Heiligen Geist und gesendet
  in ein Leben im Glauben und in Verantwortung.\n\nWir freuen uns\, diesen
  besonderen Moment im Leben junger Menschen gemeinsam mit der ganzen
  Pfarrei zu feiern.\nHerzlich eingeladen sind alle Angehörigen\,
  Pat:innen\, Freund:innen und Mitglieder der Kirchengemeinde.\n\nIm
  Anschluss an die Heilige Messe sind alle herzlich zu einem Apéro
  eingeladen.\n\nEin Moment der Begegnung\, der Gratulation – und des
  gemeinsamen Feierns in der Gemeinschaft unserer Kirche.\n\n„Ihr aber
  werdet die Kraft des Heiligen Geistes empfangen\,  \nder auf euch
  herabkommt\,  \nund ihr werdet meine Zeugen sein.“ \n–
  Apostelgeschichte 1\,8 (EÜ) \n\nKontakt: Jugendarbeiter Student der
  Theologie (TH Chur) Pjeter Mihilli\, Gustav Maurer-Str. 13\, 8702
  Zollikon\, p.mihilli@kath-zollikon.ch\n\n\nWeitere Infos:
  https://www.kath-zollikon-zumikon.ch/veranstaltung/7600
SUMMARY:Firmung in Zollikerberg
PRIORITY:5
X-MICROSOFT-CDO-IMPORTANCE:1
CLASS:PUBLIC
END:VEVENT
END:VCALENDAR
