BEGIN:VCALENDAR
PRODID:-//kirchenweb.ch gmbh//veranstaltungsausgabe v2.0//DE
VERSION:2.0
METHOD:PUBLISH
BEGIN:VEVENT
DTSTART:20251107T150000Z
DTEND:20251107T170000Z
LOCATION:Kath. Kirche Zollikerberg\, Neuweg 4\, 8125 Zollikerberg
TRANSP:OPAQUE
SEQUENCE:0
UID:7601-veranstaltung@kath-zollikon-zumikon.ch
DTSTAMP:20250806T074352Z
DESCRIPTION:Die Kinder der 3. - 6. Klasse treffen sich zum Filme schauen\,
  Spiel und Spass.\n\nKontakt: Andrea Jakober\n\nWeitere Infos:
  https://www.kath-zollikon-zumikon.ch/veranstaltung/7601
SUMMARY:Kindertreff
PRIORITY:5
X-MICROSOFT-CDO-IMPORTANCE:1
CLASS:PUBLIC
END:VEVENT
END:VCALENDAR
