BEGIN:VCALENDAR
PRODID:-//kirchenweb.ch gmbh//veranstaltungsausgabe v2.0//DE
VERSION:2.0
METHOD:PUBLISH
BEGIN:VEVENT
DTSTART;VALUE=DATE:20250927
DTEND;VALUE=DATE:20250928
LOCATION:Auswärts\, \,
TRANSP:OPAQUE
SEQUENCE:0
UID:7620-veranstaltung@kath-zollikon-zumikon.ch
DTSTAMP:20250806T085140Z
DESCRIPTION:Die Ministranten verbringen einen gemeinsamen Nachmittag/Abend
  im Alpamare.\n\nKontakt: Andrea Jakober\n\nWeitere Infos:
  https://www.kath-zollikon-zumikon.ch/veranstaltung/7620
SUMMARY:Ministranten-Ausflug
PRIORITY:5
X-MICROSOFT-CDO-IMPORTANCE:1
CLASS:PUBLIC
END:VEVENT
END:VCALENDAR
