BEGIN:VCALENDAR
PRODID:-//kirchenweb.ch gmbh//veranstaltungsausgabe v2.0//DE
VERSION:2.0
METHOD:PUBLISH
BEGIN:VEVENT
DTSTART;VALUE=DATE:20260509
DTEND;VALUE=DATE:20260510
LOCATION:Auswärts\, \,
TRANSP:OPAQUE
SEQUENCE:0
UID:7625-veranstaltung@kath-zollikon-zumikon.ch
DTSTAMP:20250806T091132Z
DESCRIPTION:Der Frühlings-Ministranten-Ausflug lässt die Minis die Stadt
  St. Gallen erkunden.\n\nKontakt: Andrea Jakober\n\nWeitere Infos:
  https://www.kath-zollikon-zumikon.ch/veranstaltung/7625
SUMMARY:Ministranten Ausflug
PRIORITY:5
X-MICROSOFT-CDO-IMPORTANCE:1
CLASS:PUBLIC
END:VEVENT
END:VCALENDAR
