BEGIN:VCALENDAR
PRODID:-//kirchenweb.ch gmbh//veranstaltungsausgabe v2.0//DE
VERSION:2.0
METHOD:PUBLISH
BEGIN:VEVENT
DTSTART:20260613T073000Z
DTEND:20260613T110000Z
LOCATION:Pfarreizentrum St. Michael Zollikerberg\, Neuweg 4\, 8125
  Zollikerberg
TRANSP:OPAQUE
SEQUENCE:0
UID:7626-veranstaltung@kath-zollikon-zumikon.ch
DTSTAMP:20250806T091531Z
DESCRIPTION:Als Abschluss für das Pastoraljahr werden die Ministranten
  mit den interessierten Neu-Ministranten zusammen bräteln.\n\nKontakt:
  Andrea Jakober\n\nWeitere Infos:
  https://www.kath-zollikon-zumikon.ch/veranstaltung/7626
SUMMARY:Minitreff
PRIORITY:5
X-MICROSOFT-CDO-IMPORTANCE:1
CLASS:PUBLIC
END:VEVENT
END:VCALENDAR
