BEGIN:VCALENDAR
PRODID:-//kirchenweb.ch gmbh//veranstaltungsausgabe v2.0//DE
VERSION:2.0
METHOD:PUBLISH
BEGIN:VEVENT
DTSTART:20251007T070000Z
DTEND:20251007T150000Z
LOCATION:Pfarreizentrum St. Michael Zollikerberg\, Neuweg 4\, 8125
  Zollikerberg
TRANSP:OPAQUE
SEQUENCE:0
UID:7838-veranstaltung@kath-zollikon-zumikon.ch
DTSTAMP:20250806T103340Z
DESCRIPTION:Punktuell werden einzelne Tage in den Herbstferien für Kinder
  ab Kindergartenalter bis 6. Klasse organisiert.\nseit 2024 wird das
  Programm mit der ref. Kirche gemeinsam organisiert.\nMontag\, 6.10.25
  Hof-Erlebnisse\, 1. bis 6. Klasse\nDienstag\, 7.10.25 Die Bibel und die
  Schöpfung Kiga bis 6. Klasse\nMittwoch\, 8.10.24 Bewegung geht immer\,
  oder? 1. bis 6. Klasse\nDonnerstag\, 09.10.25 Waldtag Kiga bis 6. Klasse
 \n\nKontakt: Andrea Jakober\n\nWeitere Infos:
  https://www.kath-zollikon-zumikon.ch/veranstaltung/7838
SUMMARY:Herbstferienprogramm für Kinder
PRIORITY:5
X-MICROSOFT-CDO-IMPORTANCE:1
CLASS:PUBLIC
END:VEVENT
END:VCALENDAR
