BEGIN:VCALENDAR
PRODID:-//kirchenweb.ch gmbh//veranstaltungsausgabe v2.0//DE
VERSION:2.0
METHOD:PUBLISH
BEGIN:VEVENT
DTSTART:20250922T160000Z
DTEND:20250922T173000Z
LOCATION:Pfarreizentrum Dreifaltigkeit Zollikon\, Gustav-Maurer-Strasse
  13\, 8702 Zollikon
TRANSP:OPAQUE
SEQUENCE:0
UID:7865-veranstaltung@kath-zollikon-zumikon.ch
DTSTAMP:20250806T124119Z
DESCRIPTION:Die Jugendlichen der Oberstufe (7. Schuljahr)\, treffen sich
  einmal monatlich zum Religionsunterricht.\nEs werden alle unsere 3
  Standorte berücksichtigt und die Tage werden zwischen Montag und
  Dienstag abgewechselt.\n\nKontakt: Andrea Jakober\n\nWeitere Infos:
  https://www.kath-zollikon-zumikon.ch/veranstaltung/7865
SUMMARY:Oberstufenunterricht l (OSU l)
PRIORITY:5
X-MICROSOFT-CDO-IMPORTANCE:1
CLASS:PUBLIC
END:VEVENT
END:VCALENDAR
