BEGIN:VCALENDAR
PRODID:-//kirchenweb.ch gmbh//veranstaltungsausgabe v2.0//DE
VERSION:2.0
METHOD:PUBLISH
BEGIN:VEVENT
DTSTART:20250923T160000Z
DTEND:20250923T173000Z
LOCATION:Kath. Kirche Zollikon\, Gustav-Maurer-Strasse 13\, 8702 Zollikon
TRANSP:OPAQUE
SEQUENCE:0
UID:7866-veranstaltung@kath-zollikon-zumikon.ch
DTSTAMP:20250806T124146Z
DESCRIPTION:Die Jugendlichen der Oberstufe treffen sich einmal monatlich
  zum Religionsunterricht.\nEs werden alle unsere 3 Standorte
  berücksichtigt und die Tage werden zwischen Montag und Dienstag
  abgewechselt.\n\nKontakt: Andrea Jakober\n\nWeitere Infos:
  https://www.kath-zollikon-zumikon.ch/veranstaltung/7866
SUMMARY:Oberstufenunterricht ll (OSU ll)
PRIORITY:5
X-MICROSOFT-CDO-IMPORTANCE:1
CLASS:PUBLIC
END:VEVENT
END:VCALENDAR
