BEGIN:VCALENDAR
PRODID:-//kirchenweb.ch gmbh//veranstaltungsausgabe v2.0//DE
VERSION:2.0
METHOD:PUBLISH
BEGIN:VEVENT
DTSTART:20251110T170000Z
DTEND:20251110T183000Z
LOCATION:Pfarreizentrum St. Michael Zollikerberg\, Neuweg 4\, 8125
  Zollikerberg
TRANSP:OPAQUE
SEQUENCE:0
UID:7868-veranstaltung@kath-zollikon-zumikon.ch
DTSTAMP:20250806T123932Z
DESCRIPTION:Die Jugendlichen der Oberstufe treffen sich einmal monatlich
  zum Religionsunterricht.\nEs werden alle unsere 3 Standorte
  berücksichtigt und die Tage werden zwischen Montag und Dienstag
  abgewechselt.\n\nKontakt: Andrea Jakober\n\nWeitere Infos:
  https://www.kath-zollikon-zumikon.ch/veranstaltung/7868
SUMMARY:Oberstufenunterricht ll (OSU ll)
PRIORITY:5
X-MICROSOFT-CDO-IMPORTANCE:1
CLASS:PUBLIC
END:VEVENT
END:VCALENDAR
