BEGIN:VCALENDAR
PRODID:-//kirchenweb.ch gmbh//veranstaltungsausgabe v2.0//DE
VERSION:2.0
METHOD:PUBLISH
BEGIN:VEVENT
DTSTART:20260422T070000Z
DTEND:20260422T080000Z
LOCATION:Kath. Kirche Zollikon\, Gustav-Maurer-Strasse 13\, 8702 Zollikon
TRANSP:OPAQUE
SEQUENCE:0
UID:7959-veranstaltung@kath-zollikon-zumikon.ch
DTSTAMP:20260331T042113Z
DESCRIPTION:Kontakt: sekretariat-berg@kath-zollikon.ch\n\nWeitere Infos:
  https://www.kath-zollikon-zumikon.ch/veranstaltung/7959
SUMMARY:Eucharistiefeier
PRIORITY:5
X-MICROSOFT-CDO-IMPORTANCE:1
CLASS:PUBLIC
END:VEVENT
END:VCALENDAR
