BEGIN:VCALENDAR
PRODID:-//kirchenweb.ch gmbh//veranstaltungsausgabe v2.0//DE
VERSION:2.0
METHOD:PUBLISH
BEGIN:VEVENT
DTSTART:20251105T180000Z
DTEND:20251105T193000Z
LOCATION:Pfarreizentrum Dreifaltigkeit Zollikon\, Gustav-Maurer-Strasse
  13\, 8702 Zollikon
TRANSP:OPAQUE
SEQUENCE:0
UID:8140-veranstaltung@kath-zollikon-zumikon.ch
DTSTAMP:20250909T072841Z
DESCRIPTION:Kontakt: Matthias Merdan\n\nWeitere Infos:
  https://www.kath-zollikon-zumikon.ch/veranstaltung/8140
SUMMARY:Wort & Wein
PRIORITY:5
X-MICROSOFT-CDO-IMPORTANCE:1
CLASS:PUBLIC
END:VEVENT
END:VCALENDAR
