BEGIN:VCALENDAR
PRODID:-//kirchenweb.ch gmbh//veranstaltungsausgabe v2.0//DE
VERSION:2.0
METHOD:PUBLISH
BEGIN:VEVENT
DTSTART:20251020T140000Z
DTEND:20251020T150000Z
LOCATION:Pfarreizentrum St. Michael Zollikerberg\, Neuweg 4\, 8125
  Zollikerberg
TRANSP:OPAQUE
SEQUENCE:0
UID:8179-veranstaltung@kath-zollikon-zumikon.ch
DTSTAMP:20251002T124724Z
DESCRIPTION:Deine Stimme zählt!\nKomm vorbei um mit zu singen!
 \nFamiliengottesdienste werden mit dem Kinder- & Jugendchor gesanglich
  feierlicher gestaltet.\nDu kannst jederzeit einsteigen.\n\nKontakt:
  Viktor Majzik\n\nWeitere Infos:
  https://www.kath-zollikon-zumikon.ch/veranstaltung/8179
SUMMARY:Kinder- & Jugendchor
PRIORITY:5
X-MICROSOFT-CDO-IMPORTANCE:1
CLASS:PUBLIC
END:VEVENT
END:VCALENDAR
