BEGIN:VCALENDAR
PRODID:-//kirchenweb.ch gmbh//veranstaltungsausgabe v2.0//DE
VERSION:2.0
METHOD:PUBLISH
BEGIN:VEVENT
DTSTART:20260426T073000Z
DTEND:20260426T083000Z
LOCATION:Kath. Kirche Zollikerberg\, Neuweg 4\, 8125 Zollikerberg
TRANSP:OPAQUE
SEQUENCE:0
UID:8203-veranstaltung@kath-zollikon-zumikon.ch
DTSTAMP:20260331T042241Z
DESCRIPTION:Kontakt: sekretariat-berg@kath-zollikon.ch\n\nWeitere Infos:
  https://www.kath-zollikon-zumikon.ch/veranstaltung/8203
SUMMARY:Heilige Messe
PRIORITY:5
X-MICROSOFT-CDO-IMPORTANCE:1
CLASS:PUBLIC
END:VEVENT
END:VCALENDAR
