BEGIN:VCALENDAR
PRODID:-//kirchenweb.ch gmbh//veranstaltungsausgabe v2.0//DE
VERSION:2.0
METHOD:PUBLISH
BEGIN:VEVENT
DTSTART:20260430T080000Z
DTEND:20260430T090000Z
LOCATION:Alterszentrum Blumenrain\, Blumenrain 1\, 8702 Zollikon
TRANSP:OPAQUE
SEQUENCE:0
UID:8509-veranstaltung@kath-zollikon-zumikon.ch
DTSTAMP:20251128T093555Z
DESCRIPTION:Kontakt: sekretariat-berg@kath-zollikon.ch\n\nWeitere Infos:
  https://www.kath-zollikon-zumikon.ch/veranstaltung/8509
SUMMARY:Andacht im Wohn- und Pfegezentrum Blumenrain
PRIORITY:5
X-MICROSOFT-CDO-IMPORTANCE:1
CLASS:PUBLIC
END:VEVENT
END:VCALENDAR
