BEGIN:VCALENDAR
PRODID:-//kirchenweb.ch gmbh//veranstaltungsausgabe v2.0//DE
VERSION:2.0
METHOD:PUBLISH
BEGIN:VEVENT
DTSTART:20260508T160000Z
DTEND:20260508T180000Z
LOCATION:Kath. Kirche Zollikerberg\, Neuweg 4\, 8125 Zollikerberg
TRANSP:OPAQUE
SEQUENCE:0
UID:8525-veranstaltung@kath-zollikon-zumikon.ch
DTSTAMP:20251128T110646Z
DESCRIPTION:Kontakt: Pjeter Mihilli\n\nWeitere Infos:
  https://www.kath-zollikon-zumikon.ch/veranstaltung/8525
SUMMARY:Jugendtreff
PRIORITY:5
X-MICROSOFT-CDO-IMPORTANCE:1
CLASS:PUBLIC
END:VEVENT
END:VCALENDAR
