BEGIN:VCALENDAR
PRODID:-//kirchenweb.ch gmbh//veranstaltungsausgabe v2.0//DE
VERSION:2.0
METHOD:PUBLISH
BEGIN:VEVENT
DTSTART:20260605T130000Z
DTEND:20260605T150000Z
LOCATION:Pfarreizentrum Dreifaltigkeit Zollikon\, Gustav-Maurer-Strasse
  13\, 8702 Zollikon
TRANSP:OPAQUE
SEQUENCE:0
UID:8565-veranstaltung@kath-zollikon-zumikon.ch
DTSTAMP:20251217T124211Z
DESCRIPTION:Ökumenischer Kegelnachmittag - mit Schwung ins Wochenende.
 \nEin ökumenisches Angebot von Sozialdiakon Peter Lissa (Ref. Kirche) und
  Heidi  Kallenbach\n\nKontakt: Heidi Kallenbach\n\nWeitere Infos:
  https://www.kath-zollikon-zumikon.ch/veranstaltung/8565
SUMMARY:Kegelnachmittag
PRIORITY:5
X-MICROSOFT-CDO-IMPORTANCE:1
CLASS:PUBLIC
END:VEVENT
END:VCALENDAR
