BEGIN:VCALENDAR
PRODID:-//kirchenweb.ch gmbh//veranstaltungsausgabe v2.0//DE
VERSION:2.0
METHOD:PUBLISH
BEGIN:VEVENT
DTSTART:20260626T073000Z
DTEND:20260626T083000Z
LOCATION:Bruder Klaus Kapelle Zumikon\, Dorfplatz 9\, 8126 Zumikon
TRANSP:OPAQUE
SEQUENCE:0
UID:8573-veranstaltung@kath-zollikon-zumikon.ch
DTSTAMP:20251217T130426Z
DESCRIPTION:Nach dem Gottesdienst bei Kafi und Gipfeli gemütlich
  zusammensitzen\n\nKontakt: Heidi Kallenbach\n\nWeitere Infos:
  https://www.kath-zollikon-zumikon.ch/veranstaltung/8573
SUMMARY:Chilekafi Bruder Klaus
PRIORITY:5
X-MICROSOFT-CDO-IMPORTANCE:1
CLASS:PUBLIC
END:VEVENT
END:VCALENDAR
