BEGIN:VCALENDAR
PRODID:-//kirchenweb.ch gmbh//veranstaltungsausgabe v2.0//DE
VERSION:2.0
METHOD:PUBLISH
BEGIN:VEVENT
DTSTART;VALUE=DATE:20260512
DTEND;VALUE=DATE:20260513
LOCATION:Maria Dreibrunnen und Äbtestadt Wil / SG\, \,
TRANSP:OPAQUE
SEQUENCE:0
UID:8580-veranstaltung@kath-zollikon-zumikon.ch
DTSTAMP:20260331T140231Z
DESCRIPTION:Wieder einmal führt uns unsere Maiwallfahrt in den Kanton
  Sankt Gallen. Die Wallfahrtskirche Maria Dreibrunnen ist das wichtigste
  Kulturobjekt der Gemeinde Bronschhofen/Wil. Wir erkunden mit
  Franziskanerpater Raphael dieses schöne\, reich ausgestattete Gotteshaus
  mitten im Grünen\, feiern dort eine Maiandacht und geniessen
  anschliessend im Pilgerhaus einen feinen Zmittag.\nAm Nachmittag besuchen
  wir die Äbtestadt Wil SG mit einigen überraschenden Besonderheiten.
  Seien Sie auch dabei!\n\n\nKontakt: Heidi Kallenbach\n\nWeitere Infos:
  https://www.kath-zollikon-zumikon.ch/veranstaltung/8580
SUMMARY:Maiwallfahrt 60+
PRIORITY:5
X-MICROSOFT-CDO-IMPORTANCE:1
CLASS:PUBLIC
END:VEVENT
END:VCALENDAR
