BEGIN:VCALENDAR
PRODID:-//kirchenweb.ch gmbh//veranstaltungsausgabe v2.0//DE
VERSION:2.0
METHOD:PUBLISH
BEGIN:VEVENT
DTSTART:20260609T123000Z
DTEND:20260609T150000Z
LOCATION:Pfarreizentrum St. Michael Zollikerberg\, Neuweg 4\, 8125
  Zollikerberg
TRANSP:OPAQUE
SEQUENCE:0
UID:8628-veranstaltung@kath-zollikon-zumikon.ch
DTSTAMP:20260226T125916Z
DESCRIPTION:Mit der Schweizer Autorin und Journalistin Sarah Gaffuri. Sie
  verfasst u.a. Bücher über die franziskanische Spiritualität und leitet
  die Redaktionen von Tauzeit und des Franziskuskalenders. Wir freuen uns\,
  sie bei uns willkommen heissen zu dürfen und Neues und Überraschendes
  zur franziskanischen Lebensweise - auch ausserhalb von Klostermauern -
  kennen lernen zu dürfen.\n\nKontakt: Heidi Kallenbach\n\nWeitere Infos:
  https://www.kath-zollikon-zumikon.ch/veranstaltung/8628
SUMMARY:Kultur-Café 60+
PRIORITY:5
X-MICROSOFT-CDO-IMPORTANCE:1
CLASS:PUBLIC
END:VEVENT
END:VCALENDAR
