BEGIN:VCALENDAR
PRODID:-//kirchenweb.ch gmbh//veranstaltungsausgabe v2.0//DE
VERSION:2.0
METHOD:PUBLISH
BEGIN:VEVENT
DTSTART:20260513T170000Z
DTEND:20260513T183000Z
LOCATION:Pfarreizentrum Dreifaltigkeit Zollikon\, Gustav-Maurer-Strasse
  13\, 8702 Zollikon
TRANSP:OPAQUE
SEQUENCE:0
UID:8920-veranstaltung@kath-zollikon-zumikon.ch
DTSTAMP:20260323T094704Z
DESCRIPTION:Wort & Wein\n\nEin Abend rund um die Welt und Umwelt der Bibel
  \n\nDie Tradition der Kirche ist reich an Bildern und Weisungen\, die das
  Leben deu-ten und tragen. Gemeinsam möchten wir ihre Tiefe ergründen\,
  über Texte ins Gespräch kommen und uns von Gottes Wort berühren
  lassen.\nUnter dem Titel Wort & Wein lade ich Sie zu einem regelmässigen
  Abend ein\, an dem in achtsamer Atmosphäre die Bibel ausgelegt und die
  Geschichte der Kir-che diskutiert wird. Dabei öffnen wir den Blick auf
  Theologie\, Tradition und Kul-tur. Ein Glas Wein soll dabei als
  begleitendes Zeichen der Freude den Austausch abrunden.\n\nTermine		15.
  Apr. 2026 | 13. Mai 2026 | 27. Mai 2026 | 10. Juni 2026 | \n             
             24. Juni 2026 | 8. Juli 2026 |\n\nDie Treffen sind
  unabhängige\, abgeschlossene Einheiten\n\nZeit & Ort: 	19:00–20:30
  Uhr\, Zollikon\, Gustav-Maurer-Str. 13\n\nLeitung 		Diakon Matthias
  Merdan\n   \nEs bedarf keiner Anmeldung\n\n\nKontakt: Matthias Merdan\n
 \nWeitere Infos: https://www.kath-zollikon-zumikon.ch/veranstaltung/8920
SUMMARY:Wort & Wein
PRIORITY:5
X-MICROSOFT-CDO-IMPORTANCE:1
CLASS:PUBLIC
END:VEVENT
END:VCALENDAR
